BEGIN:VCALENDAR
VERSION:2.0
METHOD:PUBLISH
BEGIN:VEVENT
DTSTART:20260502T093000
DTEND:20260502T113000
LOCATION:Saint-Pierre -  
TRANSP: OPAQUE
SEQUENCE:0
UID:
DTSTAMP:20260423T180606Z
SUMMARY:Stage de danse Maloya avec Flo
DESCRIPTION:
	Flo du groupe Tramay vous propose de développer votre potentiel personnel progressivement.

	Après un échauffement ludique et permettant à votre corps de retrouver ses appuis, une connexion avec votre respiration, le cours vous permettra de découvrir ou redécouvrir quelques codes de la danse maloya.

	Cours avec accompagnement de percussions live

	Tarif

	30 euros le stage

	Nous contacter pour le Tarif adhérents

	Inscription nécessaire: envoyez vos noms prénoms téléphone au +262 0692080171

	Inscrivez-vous: il reste quelques places !

	Tenue confortable à prévoir et bouteille d'eau

	-----

	Maloya Dance Workshop with Flo (Tramay)

	Flo, from the band Tramay, invites you to develop your personal potential through the rhythm of Maloya.

	The workshop includes:

	- A fun warm-up focusing on breathing and grounding.

	- Learning the core codes of Maloya dance (traditional Reunion Island rhythm).

	- All movements are accompanied by live percussion for an authentic, immersive experience.

	&#128221; Sign Up Now!

	- Price: &euro;30 per workshop. (Contact us for member rates.)

	- Registration Required: Send your full name and phone number to +262 0692080171.

	- Note: Wear comfortable clothing and bring water.

	Limited spots remaining &ndash; register today!

	-----

	Vyin azot défoulé !

PRIORITY:1
CLASS:PUBLIC
BEGIN:VALARM
TRIGGER:-PT10080M
ACTION:DISPLAY
DESCRIPTION:Reminder
END:VALARM
END:VEVENT
END:VCALENDAR
